BEGIN:VCALENDAR
PRODID:-//eluceo/ical//2.0/EN
VERSION:2.0
CALSCALE:GREGORIAN
BEGIN:VEVENT
UID:c9ccb6260065f9ab3db8f53af1b5dc57
DTSTAMP:20260424T104432Z
SUMMARY:Schulung Assistant Governors vom 22. Sept. 2012 09.00-12.00 in Luze
 rn
DESCRIPTION:Das Detailprogramm liegt vor\, Konsultieren Sie unsere Website 
 bereits vor Besuch der Informationsveranstaltung. ab Anfang September soll
 ten Sie auf alle wichtigen Unterlagen Zugriff haben. Shj\nSpeaker(s): Leit
 ung PDG Urs Herzog\, DRFCC
URL:https://foundation.rotary1980.ch/en/agenda/show/25298
DTSTART;TZID=Europe/Zurich:20120922T090000
DTEND;TZID=Europe/Zurich:20120922T110000
LOCATION:Luzern\, Hotel Continental Park
CATEGORIES:Rotary
END:VEVENT
BEGIN:VTIMEZONE
TZID:Europe/Zurich
BEGIN:DAYLIGHT
DTSTART:20120922T090000
TZNAME:CEST
TZOFFSETTO:+0200
TZOFFSETFROM:+0200
END:DAYLIGHT
END:VTIMEZONE
END:VCALENDAR
